BEGIN:VCALENDAR
VERSION:2.0
PRODID:-//Galeria Jurowiecka - ECPv5.16.4.1//NONSGML v1.0//EN
CALSCALE:GREGORIAN
METHOD:PUBLISH
X-WR-CALNAME:Galeria Jurowiecka
X-ORIGINAL-URL:https://galeriajurowiecka.com.pl
X-WR-CALDESC:Wydarzenia dla Galeria Jurowiecka
BEGIN:VTIMEZONE
TZID:UTC
BEGIN:STANDARD
TZOFFSETFROM:+0000
TZOFFSETTO:+0000
TZNAME:UTC
DTSTART:20220101T000000
END:STANDARD
END:VTIMEZONE
BEGIN:VEVENT
DTSTART;VALUE=DATE:20220624
DTEND;VALUE=DATE:20220901
DTSTAMP:20260423T122156
CREATED:20220624T085223Z
LAST-MODIFIED:20220624T085503Z
UID:19007-1656028800-1661990399@galeriajurowiecka.com.pl
SUMMARY:Opłaty za parking w Galerii Jurowieckiej
DESCRIPTION:Szanowni Klienci!\n\n\nprzypominamy\, że od 15 czerwca 2022r. pobieramy opłaty za parowanie pojazdów na terenie parkingu podziemnego w Galerii Jurowieckiej. \n\n\n \n\n\nDwie pierwsze godziny parkowania są bezpłatne\, każda następna godzina płatna będzie 2 zł. \n\n\nKlienci korzystający z Kina Helios mają możliwość przedłużenia bezpłatnego parkowania w kasie kina.\n\n\nKlienci Siłowni Calypso Fitness Club mają możliwość przedłużenia bezpłatnego parkowania w recepcji siłowni.\n\n\n \n\n\nSystem parkingowy odczytuje tablice rejestracyjne pojazdów. Po sczytaniu tablic otwierają się szlabany wjazdowe. \n\n\nBilety wydawane są tylko wtedy gdy system nie odczyta tablic rejestracyjnych.\n\n\n \n\n\nPo zakończeniu zakupów należy udać się do kasy parkingowej\, która znajduję się przy wyjściu na parking na poziomie – 2 przy schodach ruchomych\, wpisać numer rejestracyjny pojazdu i dokonać opłaty bądź wyjechać w czasie wolnym tj. 2 godziny. \n\n\n \n\n\nRegulamin parkingu: https://galeriajurowiecka.com.pl/regulamin-galerii-2/
URL:https://galeriajurowiecka.com.pl/event/oplaty-za-parking-w-galerii-jurowieckiej/
ATTACH;FMTTYPE=image/jpeg:https://galeriajurowiecka.com.pl/wp-content/uploads/2022/06/GJ_PARKING_UWAGA_FB_POST.jpg
END:VEVENT
END:VCALENDAR